BEGIN:VCALENDAR
VERSION:2.0
PRODID:-//K2BSA Amateur Radio Association - ECPv6.15.20//NONSGML v1.0//EN
CALSCALE:GREGORIAN
METHOD:PUBLISH
X-ORIGINAL-URL:https://k2bsa.net
X-WR-CALDESC:Events for K2BSA Amateur Radio Association
REFRESH-INTERVAL;VALUE=DURATION:PT1H
X-Robots-Tag:noindex
X-PUBLISHED-TTL:PT1H
BEGIN:VTIMEZONE
TZID:America/Chicago
BEGIN:DAYLIGHT
TZOFFSETFROM:-0600
TZOFFSETTO:-0500
TZNAME:CDT
DTSTART:20250309T080000
END:DAYLIGHT
BEGIN:STANDARD
TZOFFSETFROM:-0500
TZOFFSETTO:-0600
TZNAME:CST
DTSTART:20251102T070000
END:STANDARD
BEGIN:DAYLIGHT
TZOFFSETFROM:-0600
TZOFFSETTO:-0500
TZNAME:CDT
DTSTART:20260308T080000
END:DAYLIGHT
BEGIN:STANDARD
TZOFFSETFROM:-0500
TZOFFSETTO:-0600
TZNAME:CST
DTSTART:20261101T070000
END:STANDARD
BEGIN:DAYLIGHT
TZOFFSETFROM:-0600
TZOFFSETTO:-0500
TZNAME:CDT
DTSTART:20270314T080000
END:DAYLIGHT
BEGIN:STANDARD
TZOFFSETFROM:-0500
TZOFFSETTO:-0600
TZNAME:CST
DTSTART:20271107T070000
END:STANDARD
END:VTIMEZONE
BEGIN:VEVENT
DTSTART;VALUE=DATE:20260501
DTEND;VALUE=DATE:20260504
DTSTAMP:20260420T031221
CREATED:20260410T025510Z
LAST-MODIFIED:20260410T025510Z
UID:9667-1777593600-1777852799@k2bsa.net
SUMMARY:K2BSA/7 - Pacific Trail District Camporee - Seaside\, OR
DESCRIPTION:Pacific Trail District Camporee\nBeneke Creek\, Jewell Meadows Wildlife Area\nWill have an ENG truck with a 60′ mast and an HF station operating 9-4 Saturday May 2nd\, probably on 14029 or 7029 kHz. Also possibly FT8.
URL:https://k2bsa.net/event/k2bsa-7-pacific-trail-district-camporee-seaside-or-2/
CATEGORIES:K2BSA Call Sign Calendar
END:VEVENT
BEGIN:VEVENT
DTSTART;VALUE=DATE:20260628
DTEND;VALUE=DATE:20260704
DTSTAMP:20260420T031221
CREATED:20260327T210504Z
LAST-MODIFIED:20260327T210504Z
UID:9636-1782604800-1783123199@k2bsa.net
SUMMARY:K2BSA/8 - Michigan CrossRoads Council Trail to Eagle (TTE) - Metamora\, MI
DESCRIPTION:The Trail to Eagle program is a specifically designed program for the older Scout to give them the opportunity to work on the merit badges they need to finish the Eagle Scout rank requirements. It is a one week\, highly structured program held at D-bar-A Scout Ranch. Scouts must be at least 1st Class rank by June 26th and 13 years of age. \nSince its inception in 1995\, over 2\,400 Eagle candidates from 12 states\, 31 councils\, as well as from the Far East and Trans-Atlantic Councils\, have attended this unique\, one of a kind program. One of the largest attended camps had 191 Scouts participate from six states\, eleven different councils\, and a Scout from Shanghai\, China. Scouts from nearly every corner of the Michigan Crossroads Council have participated in this event. Over 55% of our candidates have attained the rank of Eagle Scout and even more are still working on achieving this lofty goal. We have had 60 staff members who have been with the program for ten years or more. There is a ratio of one staff member for every two youth. During their week at TTE\, Scouts earn\, on average\, over 6 merit badges each. The Scouts have earned\, on average\, over 1\,000 merit badges each year with an average of over six merit badges per Scout. TTE is not a merit badge mill\, but rather a highly structured week that allows ample time to work on merit badges. A scout must earn the merit badge; they are not just given one. All participants\, who are called “Eagle Candidates” will be divided into provisional units\, and will be based out of the cabins at D-bar-A Scout Ranch. Overseeing the Scouts will be at least three Scoutmasters and a Junior Assistant Scoutmaster (JASM)\, many of whom are Eagle Scouts\, and in most cases have gone through the TTE program. All meals will be served\, by the highly qualified D-bar-A food service staff\, in Dining Hall (Wyckoff Lodge). While the emphasis is on earning merit badges\, there will be many other high adventure activities which all add to the fun. These include: flag ceremonies\, a waterball competition\, war canoe races\, “Basarball” (volleyball)\, Boy Scout Jeopardy\, chess tournament\, a camp wide Vesper Service\, and the ever popular Order of the Arrow ice cream social. Also throughout the week\, the Eagle Candidates are competing in a patrol flag competition\, as well as the highly coveted Troop Spirit Award. Troops demonstrate their spirit with cheers and songs performed at assemblies before and during all meals.
URL:https://k2bsa.net/event/k2bsa-8-michigan-crossroads-council-trail-to-eagle-tte-metamora-mi/
CATEGORIES:K2BSA Call Sign Calendar
END:VEVENT
END:VCALENDAR